BEGIN:VCALENDAR
VERSION:2.0
PRODID:-//Center for Economic History - ECPv6.15.20//NONSGML v1.0//EN
CALSCALE:GREGORIAN
METHOD:PUBLISH
X-ORIGINAL-URL:https://economichistory.ucla.edu
X-WR-CALDESC:Events for Center for Economic History
REFRESH-INTERVAL;VALUE=DURATION:PT1H
X-Robots-Tag:noindex
X-PUBLISHED-TTL:PT1H
BEGIN:VTIMEZONE
TZID:America/Los_Angeles
BEGIN:DAYLIGHT
TZOFFSETFROM:-0800
TZOFFSETTO:-0700
TZNAME:PDT
DTSTART:20050403T100000
END:DAYLIGHT
BEGIN:STANDARD
TZOFFSETFROM:-0700
TZOFFSETTO:-0800
TZNAME:PST
DTSTART:20051030T090000
END:STANDARD
BEGIN:DAYLIGHT
TZOFFSETFROM:-0800
TZOFFSETTO:-0700
TZNAME:PDT
DTSTART:20060402T100000
END:DAYLIGHT
BEGIN:STANDARD
TZOFFSETFROM:-0700
TZOFFSETTO:-0800
TZNAME:PST
DTSTART:20061029T090000
END:STANDARD
BEGIN:DAYLIGHT
TZOFFSETFROM:-0800
TZOFFSETTO:-0700
TZNAME:PDT
DTSTART:20070311T100000
END:DAYLIGHT
BEGIN:STANDARD
TZOFFSETFROM:-0700
TZOFFSETTO:-0800
TZNAME:PST
DTSTART:20071104T090000
END:STANDARD
BEGIN:DAYLIGHT
TZOFFSETFROM:-0800
TZOFFSETTO:-0700
TZNAME:PDT
DTSTART:20080309T100000
END:DAYLIGHT
BEGIN:STANDARD
TZOFFSETFROM:-0700
TZOFFSETTO:-0800
TZNAME:PST
DTSTART:20081102T090000
END:STANDARD
BEGIN:DAYLIGHT
TZOFFSETFROM:-0800
TZOFFSETTO:-0700
TZNAME:PDT
DTSTART:20090308T100000
END:DAYLIGHT
BEGIN:STANDARD
TZOFFSETFROM:-0700
TZOFFSETTO:-0800
TZNAME:PST
DTSTART:20091101T090000
END:STANDARD
BEGIN:DAYLIGHT
TZOFFSETFROM:-0800
TZOFFSETTO:-0700
TZNAME:PDT
DTSTART:20100314T100000
END:DAYLIGHT
BEGIN:STANDARD
TZOFFSETFROM:-0700
TZOFFSETTO:-0800
TZNAME:PST
DTSTART:20101107T090000
END:STANDARD
END:VTIMEZONE
BEGIN:VEVENT
DTSTART;TZID=America/Los_Angeles:20090926T080000
DTEND;TZID=America/Los_Angeles:20090926T180000
DTSTAMP:20260423T045554
CREATED:20171107T211638Z
LAST-MODIFIED:20171113T235359Z
UID:1480-1253952000-1253988000@economichistory.ucla.edu
SUMMARY:Graduate Student Conference of the All-UC Economic History Group
DESCRIPTION:Conference for graduate students preparing for the job market. \nAll events\, except the reception and dinner\, will be held in Bunche 9383.  The reception and dinner will be in the Faculty Center. \n8:00    Breakfast \n8:40    Welcome\, introductions \n9:00    Andrew Jalil\, UCB\, “The Macroeconomic Effects of Banking Panics” \n10:00  Ricardo Fagoaga Hernandez\, UCSD\, “En Medio de Una Y Otra America: Guatemala’s Fiscal and Economic Transitions\, 1786-1821” \n11:00   Coffee break \n11:15    Jon Fox\, University of Arizona\, “Public Health Movements\, Local Poor Relief and Child Mortality in American Cities: 1923-1932” \n12:15   Lunch \n1:00     Jeffrey Greenbaum\, UCB\, “Endowments\, Child Labor\, and The Rise of Public Schooling: Evidence from the U.S. South” \n2:00    Robert Welker\, UCSD\, “William A. Z. Edwards and the Neighborhood System of Exchange in Early California” \n3:00    Coffee break \n3:15     Estefania Santacreu-Vasut\, UCB\, “Diversity and Institutions: Theory and Evidence from British India Textile Industry” \n4:15     Peter Zeitz\, UCLA\, “Do Local Institutions Affect All Foreign Direct Investors in the Same Way? Evidence from the Interwar Chinese Textile Industry” \n5:30    Reception \n6:30    Dinner & After-Dinner Tips & Tales \nSponsor(s): Center for Economic History
URL:https://economichistory.ucla.edu/event/graduate-student-conference-uc-economic-history-group/
LOCATION:9383 Bunche Hall\, UCLA\, Los Angeles\, CA\, 90095\, United States
CATEGORIES:Events
END:VEVENT
BEGIN:VEVENT
DTSTART;TZID=America/Los_Angeles:20090424T083000
DTEND;TZID=America/Los_Angeles:20090424T163000
DTSTAMP:20260423T045554
CREATED:20171107T210920Z
LAST-MODIFIED:20171114T003514Z
UID:1458-1240561800-1240590600@economichistory.ucla.edu
SUMMARY:Latin American Economies: History and Globalization
DESCRIPTION:Sponsored by the UCLA Latin American Institute\, the UCLA Center for Economic History\, and the Centro de Investigacion y Docencia Economicas (Mexico City). \n\nCo-organizers:  David Mayer (CIDE and UCLA) and William Summerhill (UCLA) \nThis conference brings together scholars working on various aspects of Latin America’s economic history\, ranging from vast international linkages to locally and historically specific conditions. \nThe preliminary program of papers includes: \nDay 1\, April 24th: \n\n“Income Distribution in the Southern Cone During the First Great Globalization Boom”  Luis Bértola (Universidad de la Republica\, Uruguay and Universidad Carlos III\, Spain)\n“Estratos politico-eleitorais e socio-economicos do Brasil na decada de 1870” Eustaquio Reis (Instituto de Pesquisa Econômica Aplicada (IPEA)\, Brazil)\n “Stature and Immigration in Southern Brazil (1889-1920)” Leonardo Monasterio (Universidade Federal do ABC\, Brazil)\n“Revisiting Import-Substituting Industrialisation in Brazil” Renato Perim Colistete (Universidade de São Paulo\, Brazil)\n“Reestimating the Brazilian Public Debt/GDP Ratio: The State’s “Fiscal Skeletons” Ulisses Gamboa (São Paulo Commercial Association\, and UCLA) and William Summerhill (UCLA)\, portuguese version\n “The Emergence of Education in Nineteenth-Century Colombia” Maria Teresa Ramirez (Banco de la Republica\, Colombia)\n“Salarios reales en Colombia: 1834-1997” Miguel Urrutia (Universidad de los Andes\, Colombia)\n“Sovereign debt costs and the Baring crisis\, 1880-1890” Juan-Huitzi Flores (University of Geneva)\n\nDay 2\, April 25th: \n\n“Hot” and “cold” policymaking: the nationalization of the bank industry in Mexico in comparative perspective” Gustavo del Angel (CIDE)\n“Development and Underdevelopment: 1500 – 2000” David Mayer-Foulkes (CIDE and UCLA)\n“Political Institutions\, Hydrocarbons Resources\, and Economic Policy Divergence” Allyson Benton (CIDE)\n“La Reestructuracion Economica de 1982 a 1994” Enrique Cardenas (CIDE)\n“1983: Al Principio Del Camino” Carlos Bazdresch (CIDE)\n“Credit Ratings in the Presence of Bailout: The Case of Mexican Subnational Debt” Fausto Hernandez Trillo (CIDE)\n“Systematic Risk Taking and the U.S. Financial Crisis” Romain Ranciere (IMF) and Aaron Tornell (UCLA)\n“Political Instability and Credible Commitments: The Case of Post-Revolutionary Mexico” Aurora Gomez (CIDE)\n“The Social Failure of the Mexican Revolution: Redistributive Constraints under High Inequality” John Scott (CIDE)\n\nOther participants:  Stephen Haber (Stanford)\, Noel Maurer (HBS) Fausto Hernandez Trillo (CIDE) \nSponsor(s): Latin American Institute
URL:https://economichistory.ucla.edu/event/latin-american-economies-history-globalization/
LOCATION:History Conference Room\, 6275 Bunche Hall\, Los Angeles\, CA\, 90095\, United States
CATEGORIES:Events
END:VEVENT
BEGIN:VEVENT
DTSTART;TZID=America/Los_Angeles:20090314T083000
DTEND;TZID=America/Los_Angeles:20090314T171500
DTSTAMP:20260423T045554
CREATED:20171107T204305Z
LAST-MODIFIED:20171114T003732Z
UID:1454-1237019400-1237050900@economichistory.ucla.edu
SUMMARY:"Political Economy and Growth in China and Europe since Tamerlane"
DESCRIPTION:A Conference to Discuss “Political Economy and Growth in China and Europe since Tamerlane” by Jean Laurent-Rosenthal and R. Bin Wong\nBy Invitation Only \n\n8:30AM-9:15AM \nContinental Breakfast \n9:15AM-9:30AM  \nWelcome (Naomi Lamoreaux\, Jean-Laurent Rosenthal\, R. Bin Wong) \n9:30AM-10:45AM  \nSession 1:  What Doesn’t Explain the Divergence (Chapters 1 and 2) \nChair:  Cameron Campbell\, UCLA \nDiscussant:  Kenneth Pomeranz\, UC Irvine \n10:45AM-11:15AM   \nCoffee Break \n11:15AM-12:30PM       \nSession 2:  The Role of Warfare (Chapter 3) \nChair:  Philip Hoffman\, Caltech \nDiscussant:  Robert Allen\, Oxford \n12:30PM-2:00PM  \nLunch \n2:00PM-3:15PM \nSession 3:  Finance\, Private and Public (Chapters 4 and 5) \nChair:  William Summerhill\, UCLA \nDiscussant:  Stephen Haber\, Stanford \n3:15PM-3:45PM     \nCoffee Break \n3:45PM-5:00PM       \nSession 4:  Putting It All Together (Chapter 6 and Conclusion) \nChair:  Naomi Lamoreaux\, UCLA \nDiscussant:  James Robinson\, Harvard \n5:00PM-5:15PM  \nConcluding Remarks (Jean-Laurent Rosenthal and R. Bin Wong) \n  \n\nFor more information please contact\nBunche 9383
URL:https://economichistory.ucla.edu/event/political-economy-growth-china-europe-since-tamerlane/
LOCATION:9383 Bunche Hall\, UCLA\, Los Angeles\, CA\, 90095\, United States
CATEGORIES:Events
END:VEVENT
BEGIN:VEVENT
DTSTART;TZID=America/Los_Angeles:20081107T080000
DTEND;TZID=America/Los_Angeles:20081107T180000
DTSTAMP:20260423T045554
CREATED:20171107T203631Z
LAST-MODIFIED:20171114T003929Z
UID:1442-1226044800-1226080800@economichistory.ucla.edu
SUMMARY:Conference Honoring Kenneth Sokoloff
DESCRIPTION:Understanding Long Run Economic Growth:\n A Conference Honoring the Contributions of Kenneth Sokoloff\nFriday and Saturday\, November 7-8\, 2008\nOrganizers: Dora L. Costa and Naomi Lamoreaux\nSponsored by NBER\, the All UC Economic History Group\, UCLA\nFriday\, November 7\, 2008\n\n\n\n8:00:\nContinental Breakfast\n\n\n8:45:\nIntroduction\n\n\n9:00:\nSTANLEY ENGERMAN (University of Rochester and NBER)\nOnce Upon a Time in the Americas: Land and Immigration Policy in the New World (Joint with Kenneth Sokoloff)\n\n\n\nDiscussant: PETER LINDERT (University of California\, Davis)\n\n\n9:50:\nJAMES ROBINSON (Harvard University and NBER)\nThe Myth of the Frontier\n\n\n\nDiscussant: RONALD ROGOWSKI (University of California\, Los Angeles)\n\n\n10:40:\nBreak\n\n\n11:00:\nSTEPHEN HABER (Stanford University and NBER)\nDo Natural Resources Cause Authoritarianism: A Reappraisal of the Resource Curse (joint with Victor Menaldo)\n\n\n\nDiscussant: JEFFREY FRIEDEN (Harvard University)\n\n\n11:50:\nDANIEL KAUFMANN (World Bank)\nTopic to be announced\n\n\n\nDiscussant: DANIEL TREISMAN (University of California\, Los Angeles)\n\n\n12:40:\nLunch\n\n\n2:00:\nCLAUDIA GOLDIN (Harvard University and NBER)\nMass Secondary Schooling and the State: The Role of State Compulsion (joint with Lawrence Katz)\n\n\n\nDiscussant: DAVID CARD (University of California\, Berkeley and NBER)\n\n\n2:50:\nNAOMI LAMOREAUX (University of California\, Los Angeles and NBER)\nThe Reorganization of Invention in the Early Twentieth Century U.S. (joint with Kenneth Sokoloff and Dhanoos Sutthiphisal)\n\n\n\nDiscussant: ARIEL PAKES (Harvard University and NBER)\n\n\n3:40:\nBreak\n\n\n4:00:\nROBERT W. FOGEL (University of Chicago and NBER)\nThe Impact of the Asian Miracle on the Theory of Economic Growth\n\n\n5:00:\nAdjourn\n\n\n6:00:\nDinner\nRemarks: DOUGLASS C. NORTH (Washington University\, St. Louis)\n\n\n\nSaturday\, November 8\n\n\n\n7:45:\nContinental Breakfast\n\n\n8:20:\nZORINA KHAN (Bowdoin College and NBER)\nHow Do Incentive Mechanisms Affect Technological Innovation?\n\n\n\nDiscussant: MANUEL TRATJENBERG (Tel Aviv University)\n\n\n9:10:\nSUKKOO KIM (Washington University in St. Louis and NBER)\nUrban Primacy and Institutional Development: Evidence from the Americas (joint with Sebastian Galiani)\n\n\n\nDiscussant: EDWARD LEAMER (University of California\, Los Angeles and NBER)\n\n\n10:00:\nBreak\n\n\n10:20:\nJOHN MAJEWSKI (University of California\, Santa Barbara)\nDemocracy\, Development and the Costs of Incorporation: The Transportation Revolution in Britain and the United States (joint with Daniel Bogart)\n\n\n\nDiscussant: JOHN WALLIS (University of Maryland and NBER)\n\n\n11:10:\nJEAN-LAURENT ROSENTHAL (Caltech)\nHistory\, Geography\, and the Markets for Mortgage Loans in 19th Century France (joint with Gilles Postel-Vinay and Philip T. Hoffman)\n\n\n\nDiscussant: JOEL MOKYR (Northwestern University)\n\n\n12:00:\nAdjourn\n\n\n\nSpecial Instructions\nThis event is by invitation only.
URL:https://economichistory.ucla.edu/event/conference-honoring-kenneth-sokoloff/
LOCATION:Los Angeles\, CA\, 90095\, United States
CATEGORIES:Events
END:VEVENT
BEGIN:VEVENT
DTSTART;VALUE=DATE:20080523
DTEND;VALUE=DATE:20080524
DTSTAMP:20260423T045554
CREATED:20171107T202509Z
LAST-MODIFIED:20171114T004254Z
UID:1437-1211500800-1211587199@economichistory.ucla.edu
SUMMARY:All UC Conference
DESCRIPTION:“Crises and Prosperity in Comparative Economic History” held at the Huntington Library and Caltech\nMay 23-25\, 2008\n\nDownload File: All UC May 2008 Program
URL:https://economichistory.ucla.edu/event/all-uc-conference/
LOCATION:Los Angeles\, CA\, 90095\, United States
CATEGORIES:Events
END:VEVENT
BEGIN:VEVENT
DTSTART;TZID=America/Los_Angeles:20070716T083000
DTEND;TZID=America/Los_Angeles:20070716T170000
DTSTAMP:20260423T045554
CREATED:20171107T201750Z
LAST-MODIFIED:20171107T215027Z
UID:1433-1184574600-1184605200@economichistory.ucla.edu
SUMMARY:Historical Perspectives on Tax Law and Policy
DESCRIPTION:The 2007 Tax History Conference Schedule\nJuly 16 – 17\, 2007\nUCLA School of Law\nSponsored by the UCLA School of Law and the UCLA Center for Economic History\nThere is limited seating for this event. Please e-mail tax@law.ucla.edu if you are interested in attending. \nSunday\, July 15\n\n\n\n5:00 pm :\nWine and Cheese Reception – Fourth Floor Tower\, UCLA Law Library\n\n\n\nDinner on your own\n\n\n\nMonday\, July 16\n\n\n\n8:15 am – 9:00 am :\nCheck-In and Continental Breakfast\n\n\n9:00 am – 9:15 am :\nWelcome and Introductory Remarks\n\n\n9:15 am – 10:45 am :\nSession I\n\n\n\nAdam Chodorow\, Arizona State (Law)\nBiblical Tax Systems and the Argument for Progressive Taxation\nComments: Dennis Ventry\n\n\n\nCharlotte Crane\, Northwestern (Law)\nSome Possible Images of Federalism: The 1798 Stamp Tax\nComments: Sheldon Pollack\n\n\n10:45am – 11:00 am :\nBreak\n\n\n11:00am – 12:30 pm :\nSession II\n\n\n\nElliot Brownlee\, UC-Santa Barbara (History)\nThe Shoup Mission to Japan: Two Political Economies Intersect\nComments: Kathryn James\n\n\n\nIlan Ben-Shalom\, Northwestern (Law)\nThe Quest to Tax Interest Income in a Global Economy: Stages in the Development of International Income Taxation\nComments: Jeff Timmons\n\n\n12:30 pm – 1:45 pm :\nLunch\n\n\n1:45 pm – 3:15 pm :\nSession III\n\n\n\nOnno Ydema\, Leiden University\, The Netherlands (Law)\nDiscussions on Graduated Taxation in the Batavian Republic\nComments: Ilan Ben-Shalom\n\n\n\nHenk Vording\, Leiden University\, The Netherlands (Law)\nRadical tax reform in the Netherlands: a failed attempt (1936-1939)\nComments: Se Yan\n\n\n3:15 pm – 3:30 pm :\nBreak\n\n\n3:30 pm – 5:00 pm :\nSession IV\n\n\n\nStephanie Hunter McMahon\, NYU (Golieb Fellow in Legal History)\n“To Save State Residents: States’ Use of the Federal System of Government for Tax Reduction”\nComments: Ajay Mehrotra\n\n\n\nJoseph J. Thorndike\, Virginia (History)\n“The Unfair Advantage of the Few”: The New Deal Origins of Soak the Rich Taxation\nComments: Adam Chodorow\n\n\n6:30 pm :\nDinner – Faculty Center\n\n\n\nTuesday\, July 17\n\n\n\n8:15 am – 9:00 am :\nContinental Breakfast\n\n\n9:00 am – 10:30 am :\nSession V\n\n\n\nAjay K. Mehrotra\, Indiana (Law and History)\nFrom Labor to Capital: The Forgotten History of the Tax Preference for “Earned” Income\nComments: Onno Ydema\n\n\n\nDennis Ventry\, American (Law)\n“Taxing Men\, Taxing Women: The Origin of Income Splitting and Its Effect on the Modern American Family”\nComments: Stephanie Hunter McMahon\n\n\n10:30 am – 10:45 am :\nBreak\n\n\n10:45 am – 12:15 pm :\nSession VI\n\n\n\nKathryn James\, Monash\, Australia (Law)\nWe of the ‘never ever’: The history of the introduction of a Goods and Services Tax in Australia\nComments: Henk Vording\n\n\n\nSe Yan\, UCLA (Economics)\nTax Reform\, Population Explosion and Industrialization Divergence between China and Europe\nComments: Elliot Brownlee\n\n\n12:15 pm – 1:30 pm :\nLunch\n\n\n1:30 pm – 3:00 pm :\nSession VII\n\n\n\nJeff Timmons\, Instituto Tecnológico Autónomo de México (Political Science)\nTaxation and Representation in recent history\nComments: Charlotte Crane\n\n\n\nSheldon D. Pollack\, Delaware (Business Law and Political Science)\nRevenue Matters: Financing the Development of the American State\nComments: Joseph Thorndike\n\n\n3:00 pm :\nReception and farewell\n\n\n\n  \n\nFor more information please contact\nSteven Bank\nTel: (310) 794-7601\nbank@law.ucla.edu \nwww.law.ucla.edu/home/index.asp?page=1542 \nSponsor(s): Center for Economic History\, UCLA Law
URL:https://economichistory.ucla.edu/event/historical-perspectives-tax-law-policy/
LOCATION:UCLA School of Law\, Los Angeles\, CA\, 90095\, United States
CATEGORIES:Events
END:VEVENT
BEGIN:VEVENT
DTSTART;TZID=America/Los_Angeles:20070224T081500
DTEND;TZID=America/Los_Angeles:20070224T164500
DTSTAMP:20260423T045554
CREATED:20171107T201055Z
LAST-MODIFIED:20171107T214918Z
UID:1426-1172304900-1172335500@economichistory.ucla.edu
SUMMARY:Fiscal Federalism in Latin America
DESCRIPTION:This conference is intended to bring together scholars and framers of policy who work with issues about the structure of public finance in Latin America. \nThe UCLA International Institute and the Latin American Center are hosting a conference on Fiscal Federalism in Latin America. The meeting is intended to bring together a small group of scholars and framers of policy who work on and are familiar with issues about the structures of public finance in Latin America. In recent years\, there has been a strong revival of interest in fiscal federalism\, inspired by a range of arguments offered by some academics\, policymakers\, and political leaders that the provision of government services in this region with historically highly centralized government structures would be improved by introducing greater decentralization. \nVisit conference website at www.international.ucla.edu/lac/fiscalfederalism \nCost: Free and Open to the Public \nSpecial Instructions\nR.S.V.P to Diliana Peregrina at dperegri@international.ucla.edu \n\nFor more information please contact\nDiliana Peregrina\nTel: (310) 825-4571\ndperegri@international.ucla.edu\nwww.international.ucla.edu/lac\nSponsor(s): Latin American Institute\, UCLA International Institute
URL:https://economichistory.ucla.edu/event/fiscal-federalism-latin-america/
LOCATION:306 Royce Hall\, Los Angeles\, CA\, 90095\, United States
CATEGORIES:Events
END:VEVENT
BEGIN:VEVENT
DTSTART;TZID=America/Los_Angeles:20061021T083000
DTEND;TZID=America/Los_Angeles:20061021T170000
DTSTAMP:20260423T045554
CREATED:20171103T194841Z
LAST-MODIFIED:20171103T195402Z
UID:1315-1161419400-1161450000@economichistory.ucla.edu
SUMMARY:States and Capital Markets in Comparative Historical Perspective
DESCRIPTION:Inaugural Mini-Conference of the UCLA Center for Economic History\nSaturday\, October 21\, 2006\n8:30 AM – 5:00 PM\n9383 Bunche Hall\nLos Angeles\, CA 90095\nSession 1. A New Look at Constitutions and Commitment\, Part A – 9:00 AM\n\n\n“Debt Repudiation and Risk Premia: The North-Weingast Thesis Revisited”\nJames Robinson\, Harvard University\nDiscussant: Andrew Atkeson\, UCLA\n“Cities\, Constitutions\, and Sovereign Borrowing in Europe\, 1274-1785”\nDavid Stasavage\, New York University\nDiscussant: Jean-Laurent Rosenthal\, UCLA and California Institute of Technology\n\n\nSession 2. A New Look at Constitutions and Commitment\, Part B – 10:00 AM\n\n\n“Institutional Reforms\, Financial Development\, and Sovereign Debt: Britain\, 1690-1790”\nNathan Sussman and Yishay Yafeh\, Hebrew University\nDiscussant: Marc Weidenmier\, Claremont-McKenna College\n“Securitization of Sovereign Debt: Corporations as a Sovereign Debt Restructuring Mechanism in Britain\, 1688-1750”\nStephen Quinn\, Texas Christian University\nDiscussant: Dan Bogart\, UCI\n\n\nSession 3. Sovereign Commitment and Latin American Borrowing\, Part A – 11:00 AM\n\n\n“Guano\, Credible Commitments\, and State Finance in Nineteenth-Century Peru”\nCatalina Vizcarra\, University of Vermont\nDiscussant: Stephen Haber\, Stanford University\n“Sovereign Commitment and Financial Underdevelopment in Imperial Brazil”\nWilliam Summerhill\, UCLA\nDiscussant: Barry Weingast\, Stanford University\n\nLunch Break – 12:00 PM\n\nSession 4. Sovereign Commitment and Latin American Borrowing\, Part B – 1:30 PM\n\n\n“Power and Money: Gunboat Diplomacy and the Enforcement of International Debt Contracts.”\nMike Tomz\, Stanford University\nDiscussant: Dan Treisman\, UCLA\n“The Baring Crisis and the Great Latin American Meltdown of the 1890s”\nKris James Mitchener and Marc D. Weidenmier\, Santa Clara University/ Claremont-McKenna\nDiscussant: Jean-Laurent Rosenthal\, UCLA and California Institute of Technology\n\n\nSession 5. Public Debt and Financial Development in the U.S. – 2:30 PM\n\n\n“Dysfunctional or Optimal Institutions?: State Debt Limitations\, the Structure of State and Local Governments\, and the Finance of American Infrastructure”\nJohn Joseph Wallis and Barry Weingast\, University of Maryland/ Stanford University\nDiscussant: Kenneth Sokoloff\, UCLA\n\n\n\nFor more information please contact William R. Summerhill at summerhill@ucla.edu. \nSponsor(s): Center for Economic History\, Economics
URL:https://economichistory.ucla.edu/event/states-capital-markets-comparative-historical-perspective/
LOCATION:9383 Bunche Hall\, UCLA\, Los Angeles\, CA\, 90095\, United States
CATEGORIES:Events
END:VEVENT
END:VCALENDAR